Workbook

Sheet Kalkulator Zysku
A1: DOCHODOWE RECEPTURY SAMOCHODOWE™ — Kalkulator Zysku
A2: Wypełnij żółte pola (koszt, cena, ilość). Pozostałe kolumny liczą się automatycznie. Wartości przykładowe — dostosuj do własnej produkcji.
A3: Lp. | B3: Produkt | C3: Pojemność | D3: Koszt produkcji (zł/szt.) | E3: Cena sprzedaży (zł/szt.) | F3: Zysk na sztuce (zł) | G3: Marża (%) | H3: Ilość / mies. (szt.) | I3: Przychód / mies. (zł) | J3: Koszt / mies. (zł) | K3: Zysk / mies. (zł)
A4: 1 | B4: Czernidło do opon | C4: 500 ml | D4: 3 | E4: 18 | F4: =E4-D4 -> 15 | G4: =IFERROR(F4/E4,0) -> 0.83333333 | H4: 20 | I4: =E4*H4 -> 360 | J4: =D4*H4 -> 60 | K4: =F4*H4 -> 300
A5: 2 | B5: Szampon samochodowy | C5: 1 L | D5: 4 | E5: 20 | F5: =E5-D5 -> 16 | G5: =IFERROR(F5/E5,0) -> 0.8 | H5: 25 | I5: =E5*H5 -> 500 | J5: =D5*H5 -> 100 | K5: =F5*H5 -> 400
A6: 3 | B6: Odtłuszczacz | C6: 1 L | D6: 3.5 | E6: 16 | F6: =E6-D6 -> 12.5 | G6: =IFERROR(F6/E6,0) -> 0.78125 | H6: 15 | I6: =E6*H6 -> 240 | J6: =D6*H6 -> 52.5 | K6: =F6*H6 -> 187.5
A7: 4 | B7: Środek do czyszczenia bagażnika | C7: 1 L | D7: 3 | E7: 15 | F7: =E7-D7 -> 12 | G7: =IFERROR(F7/E7,0) -> 0.8 | H7: 10 | I7: =E7*H7 -> 150 | J7: =D7*H7 -> 30 | K7: =F7*H7 -> 120
A8: 5 | B8: Koncentrat uniwersalny (APC) | C8: 1 L | D8: 4 | E8: 22 | F8: =E8-D8 -> 18 | G8: =IFERROR(F8/E8,0) -> 0.81818182 | H8: 18 | I8: =E8*H8 -> 396 | J8: =D8*H8 -> 72 | K8: =F8*H8 -> 324
A9: 6 | B9: Wosk w płynie | C9: 500 ml | D9: 5 | E9: 25 | F9: =E9-D9 -> 20 | G9: =IFERROR(F9/E9,0) -> 0.8 | H9: 12 | I9: =E9*H9 -> 300 | J9: =D9*H9 -> 60 | K9: =F9*H9 -> 240
A10: 7 | B10: Odnawiacz do plastików | C10: 500 ml | D10: 4 | E10: 20 | F10: =E10-D10 -> 16 | G10: =IFERROR(F10/E10,0) -> 0.8 | H10: 15 | I10: =E10*H10 -> 300 | J10: =D10*H10 -> 60 | K10: =F10*H10 -> 240
A11: 8 | B11: Płyn do szyb | C11: 1 L | D11: 2.5 | E11: 12 | F11: =E11-D11 -> 9.5 | G11: =IFERROR(F11/E11,0) -> 0.79166667 | H11: 20 | I11: =E11*H11 -> 240 | J11: =D11*H11 -> 50 | K11: =F11*H11 -> 190
A12: 9 | B12: Zapach samochodowy | C12: 100 ml | D12: 2 | E12: 15 | F12: =E12-D12 -> 13 | G12: =IFERROR(F12/E12,0) -> 0.86666667 | H12: 30 | I12: =E12*H12 -> 450 | J12: =D12*H12 -> 60 | K12: =F12*H12 -> 390
A13: 10 | B13: Silikon w płynie | C13: 500 ml | D13: 4 | E13: 18 | F13: =E13-D13 -> 14 | G13: =IFERROR(F13/E13,0) -> 0.77777778 | H13: 12 | I13: =E13*H13 -> 216 | J13: =D13*H13 -> 48 | K13: =F13*H13 -> 168
A14: 11 | B14: Detergent samochodowy | C14: 1 L | D14: 3.5 | E14: 17 | F14: =E14-D14 -> 13.5 | G14: =IFERROR(F14/E14,0) -> 0.79411765 | H14: 15 | I14: =E14*H14 -> 255 | J14: =D14*H14 -> 52.5 | K14: =F14*H14 -> 202.5
A15: 12 | B15: Środek do felg | C15: 1 L | D15: 4.5 | E15: 22 | F15: =E15-D15 -> 17.5 | G15: =IFERROR(F15/E15,0) -> 0.79545455 | H15: 14 | I15: =E15*H15 -> 308 | J15: =D15*H15 -> 63 | K15: =F15*H15 -> 245
... A23: 20 | B23: Nawilżacz do skóry | C23: 500 ml | D23: 5.5 | E23: 26 | F23: =E23-D23 -> 20.5 | G23: =IFERROR(F23/E23,0) -> 0.78846154 | H23: 8 | I23: =E23*H23 -> 208 | J23: =D23*H23 -> 44 | K23: =F23*H23 -> 164
A24: RAZEM / MIESIĄC | G24: =IFERROR(K24/I24,0) -> 0.80628272 | H24: =SUM(H4:H23) -> 281 | I24: =SUM(I4:I23) -> 5348 | J24: =SUM(J4:J23) -> 1036 | K24: =SUM(K4:K23) -> 4312

Sheet Podsumowanie
B2: PODSUMOWANIE ZYSKÓW
B4: Przychód miesięczny | C4: ='Kalkulator Zysku'!I24 -> 5348
B5: Koszt produkcji miesięczny | C5: ='Kalkulator Zysku'!J24 -> 1036
B6: ZYSK MIESIĘCZNY | C6: ='Kalkulator Zysku'!K24 -> 4312
B7: Średnia marża | C7: ='Kalkulator Zysku'!G24 -> 0.80628272
B8: Łączna liczba sztuk / mies. | C8: ='Kalkulator Zysku'!H24 -> 281
B9: Średni zysk na sztuce | C9: =IFERROR('Kalkulator Zysku'!K24/'Kalkulator Zysku'!H24,0) -> 15.345196
B10: ZYSK ROCZNY (x12) | C10: ='Kalkulator Zysku'!K24*12 -> 51744
B12: Zwrot inwestycji
B13: Koszt kursu | C13: 37
B14: Zysk po odjęciu kosztu kursu (1. mies.) | C14: ='Kalkulator Zysku'!K24-37 -> 4275
B15: Ile sztuk pokrywa koszt kursu | C15: =IFERROR(ROUNDUP(37/('Kalkulator Zysku'!K24/'Kalkulator Zysku'!H24),0),0) -> 3
B17: Dane pochodzą z arkusza „Kalkulator Zysku”. Zmień wartości w żółtych polach, a podsumowanie zaktualizuje się automatycznie.

Sheet Instrukcja
B2: JAK KORZYSTAĆ Z ARKUSZA
B4: 1. Uzupełnij żółte pola
B5: W arkuszu „Kalkulator Zysku” edytuj tylko trzy kolumny oznaczone na żółto:
B6: • Koszt produkcji (zł/szt.) — ile kosztują Cię surowce na jedną sztukę
B7: • Cena sprzedaży (zł/szt.) — za ile sprzedajesz gotowy produkt
B8: • Ilość / mies. (szt.) — ile sztuk planujesz sprzedać w miesiącu
B10: 2. Kolumny liczone automatycznie
B11: Zysk na sztuce, marża, przychód, koszt i zysk miesięczny wyliczają się same.
B12: Nie wpisuj tam wartości ręcznie — nadpiszesz formuły.
B14: 3. Sprawdź podsumowanie
B15: Zakładka „Podsumowanie” pokazuje łączny zysk miesięczny i roczny oraz zwrot inwestycji.
B17: 4. Kolory
... B22: Wartości w arkuszu są przykładowe. Zastąp je własnymi liczbami z produkcji.
